BEGIN:VCALENDAR
VERSION:2.0
PRODID:-//Squarespace Inc/Squarespace 6//v6//EN
BEGIN:VEVENT
UID:5c63693015fcc06ed9a7d511@squarespace.com
DTSTAMP:20190213T010211Z
DTSTART:20190304T011500Z
DTEND:20190304T031500Z
SUMMARY:Monday Club Lunch | Practical Challenges in  Humanitarian  Assistan
 ce
GEO:-33.864548;151.211292
LOCATION:JBWere\, Level 42\, Governor Phillip Tower\, 1 Farrer  Place\, SYD
 NEY NSW 2000`\, AUSTRALIA
END:VEVENT
END:VCALENDAR
