BEGIN:VCALENDAR
VERSION:2.0
PRODID:-//Squarespace Inc/Squarespace 6//v6//EN
BEGIN:VEVENT
UID:5b6a7a1d0e2e72497acbb1fa@squarespace.com
DTSTAMP:20180808T212000Z
DTSTART:20180911T211500Z
DTEND:20180911T230000Z
SUMMARY:HCA QLD Breakfast: Visit Australia's New City
END:VEVENT
END:VCALENDAR
