BEGIN:VCALENDAR
VERSION:2.0
PRODID:-//Squarespace Inc/Squarespace 6//v6//EN
BEGIN:VEVENT
UID:5b69394f03ce6404fb719bf2@squarespace.com
DTSTAMP:20180808T021218Z
DTSTART:20180827T073000Z
DTEND:20180827T093000Z
SUMMARY:HCA WA Chapter Evening with Michelle Lipkin
END:VEVENT
END:VCALENDAR
