BEGIN:VCALENDAR
VERSION:2.0
PRODID:-//Squarespace Inc/Squarespace 6//v6//EN
BEGIN:VEVENT
UID:5b1719c0758d46256e48761c@squarespace.com
DTSTAMP:20180605T232543Z
DTSTART:20180704T083000Z
DTEND:20180704T123000Z
SUMMARY:Oxbridge & Ivy League Networking Drinks
END:VEVENT
END:VCALENDAR
