BEGIN:VCALENDAR
VERSION:2.0
PRODID:-//Squarespace Inc/Squarespace 6//v6//EN
BEGIN:VEVENT
UID:5af93a751ae6cfd839e89172@squarespace.com
DTSTAMP:20180605T002134Z
DTSTART:20180612T073000Z
DTEND:20180612T100000Z
SUMMARY:HCA Australia Address\, SGM and AGM 2018
END:VEVENT
END:VCALENDAR
