BEGIN:VCALENDAR
VERSION:2.0
PRODID:-//Squarespace Inc/Squarespace 6//v6//EN
BEGIN:VEVENT
UID:5ad3f252562fa717623ca721@squarespace.com
DTSTAMP:20180612T221532Z
DTSTART:20180702T021500Z
DTEND:20180702T040000Z
SUMMARY:Monday Club with Dr Sarah Cameron 'Flawed Elections?'
END:VEVENT
END:VCALENDAR
