BEGIN:VCALENDAR
VERSION:2.0
PRODID:-//Squarespace Inc/Squarespace 6//v6//EN
BEGIN:VEVENT
UID:5bede99d21c67c3f3708cfdc@squarespace.com
DTSTAMP:20181115T215146Z
DTSTART:20181204T070000Z
DTEND:20181204T100000Z
SUMMARY:Evening with Professor Seward Rutkove\, Beth Israel Deaconess Medic
 al Center\, Harvard University\, Boston\, USA.
END:VEVENT
END:VCALENDAR
