BEGIN:VCALENDAR
VERSION:2.0
PRODID:-//Squarespace Inc/Squarespace 6//v6//EN
BEGIN:VEVENT
UID:5be01d57b8a0450a33736f86@squarespace.com
DTSTAMP:20181106T002617Z
DTSTART:20181203T011500Z
DTEND:20181203T030000Z
SUMMARY:Monday Club Lunch with Norma Ingram
END:VEVENT
END:VCALENDAR
