BEGIN:VCALENDAR
VERSION:2.0
PRODID:-//Squarespace Inc/Squarespace 6//v6//EN
BEGIN:VEVENT
UID:5ba319be1ae6cf58cac48695@squarespace.com
DTSTAMP:20180923T060212Z
DTSTART:20181016T011500Z
DTEND:20181016T030000Z
SUMMARY:Lunch with Former Dean of HMS Jeff Flier and HMS Professor Terry Ma
 ratos
END:VEVENT
END:VCALENDAR
