BEGIN:VCALENDAR
VERSION:2.0
PRODID:-//Squarespace Inc/Squarespace 6//v6//EN
BEGIN:VEVENT
UID:5b6a539988251b7293306109@squarespace.com
DTSTAMP:20180814T060033Z
DTSTART:20181010T063000Z
DTEND:20181010T100000Z
SUMMARY:Masterclass: Leadership Lessons From The American Civil War
END:VEVENT
END:VCALENDAR
